BEGIN:VCALENDAR
VERSION:2.0
PRODID:-//Paxton Bowling Club - ECPv6.15.16.1//NONSGML v1.0//EN
CALSCALE:GREGORIAN
METHOD:PUBLISH
X-WR-CALNAME:Paxton Bowling Club
X-ORIGINAL-URL:https://paxtonbowlingclub.com.au
X-WR-CALDESC:Events for Paxton Bowling Club
REFRESH-INTERVAL;VALUE=DURATION:PT1H
X-Robots-Tag:noindex
X-PUBLISHED-TTL:PT1H
BEGIN:VTIMEZONE
TZID:Australia/Sydney
BEGIN:STANDARD
TZOFFSETFROM:+1100
TZOFFSETTO:+1000
TZNAME:AEST
DTSTART:20250405T160000
END:STANDARD
BEGIN:DAYLIGHT
TZOFFSETFROM:+1000
TZOFFSETTO:+1100
TZNAME:AEDT
DTSTART:20251004T160000
END:DAYLIGHT
BEGIN:STANDARD
TZOFFSETFROM:+1100
TZOFFSETTO:+1000
TZNAME:AEST
DTSTART:20260404T160000
END:STANDARD
BEGIN:DAYLIGHT
TZOFFSETFROM:+1000
TZOFFSETTO:+1100
TZNAME:AEDT
DTSTART:20261003T160000
END:DAYLIGHT
BEGIN:STANDARD
TZOFFSETFROM:+1100
TZOFFSETTO:+1000
TZNAME:AEST
DTSTART:20270403T160000
END:STANDARD
BEGIN:DAYLIGHT
TZOFFSETFROM:+1000
TZOFFSETTO:+1100
TZNAME:AEDT
DTSTART:20271002T160000
END:DAYLIGHT
END:VTIMEZONE
BEGIN:VTIMEZONE
TZID:UTC
BEGIN:STANDARD
TZOFFSETFROM:+0000
TZOFFSETTO:+0000
TZNAME:UTC
DTSTART:20250101T000000
END:STANDARD
END:VTIMEZONE
BEGIN:VEVENT
DTSTART;VALUE=DATE:20260423
DTEND;VALUE=DATE:20260424
DTSTAMP:20260421T095628
CREATED:20240801T025925Z
LAST-MODIFIED:20240801T025925Z
UID:2124-1776902400-1776988799@paxtonbowlingclub.com.au
SUMMARY:Thursday Rump Steak
DESCRIPTION:
URL:https://paxtonbowlingclub.com.au/event/thursday-rump-steak/2026-04-23/
CATEGORIES:Live Entertainment
ATTACH;FMTTYPE=image/jpeg:https://paxtonbowlingclub.com.au/wp-content/uploads/2026/03/Burger-Thursdays-Social.jpg
END:VEVENT
BEGIN:VEVENT
DTSTART;TZID=Australia/Sydney:20260423T180000
DTEND;TZID=Australia/Sydney:20260423T180000
DTSTAMP:20260421T095628
CREATED:20240131T222548Z
LAST-MODIFIED:20240131T222548Z
UID:1847-1776967200-1776967200@paxtonbowlingclub.com.au
SUMMARY:Joker Poker
DESCRIPTION:
URL:https://paxtonbowlingclub.com.au/event/joker-poker-2/2026-04-23/
CATEGORIES:Live Entertainment
ATTACH;FMTTYPE=image/jpeg:https://paxtonbowlingclub.com.au/wp-content/uploads/2024/02/Joker-Poker-Soc-tile-Paxton-Bowling-Club-2.jpg
END:VEVENT
BEGIN:VEVENT
DTSTART;TZID=Australia/Sydney:20260423T180000
DTEND;TZID=Australia/Sydney:20260423T190000
DTSTAMP:20260421T095628
CREATED:20231229T050338Z
LAST-MODIFIED:20231229T050338Z
UID:1846-1776967200-1776970800@paxtonbowlingclub.com.au
SUMMARY:Joker Poker
DESCRIPTION:Thursday nights\n2 draw per night – Drawn 6pm and 7pm\nPrize pool starts at $400 – increases $50 per draw  \n*receive 1 entry for every $20 spent\n*Terms and conditions apply
URL:https://paxtonbowlingclub.com.au/event/joker-poker/2026-04-23/
CATEGORIES:Live Entertainment
ATTACH;FMTTYPE=image/jpeg:https://paxtonbowlingclub.com.au/wp-content/uploads/2023/12/Joker-Poker-Soc-tile-Paxton-Bowling-Club.jpg
END:VEVENT
BEGIN:VEVENT
DTSTART;TZID=UTC:20260424T180000
DTEND;TZID=UTC:20260424T180000
DTSTAMP:20260421T095628
CREATED:20220329T001428Z
LAST-MODIFIED:20220329T001428Z
UID:1848-1777053600-1777053600@paxtonbowlingclub.com.au
SUMMARY:Friday Meat Raffles
DESCRIPTION:
URL:https://paxtonbowlingclub.com.au/event/friday-meat-raffles/2026-04-24/
CATEGORIES:Live Entertainment
ATTACH;FMTTYPE=image/jpeg:https://paxtonbowlingclub.com.au/wp-content/uploads/2022/03/Friday-raffle-square.jpg
END:VEVENT
BEGIN:VEVENT
DTSTART;VALUE=DATE:20260425
DTEND;VALUE=DATE:20260426
DTSTAMP:20260421T095628
CREATED:20260420T013940Z
LAST-MODIFIED:20260420T013940Z
UID:3824-1777075200-1777161599@paxtonbowlingclub.com.au
SUMMARY:ANZAC Day
DESCRIPTION:
URL:https://paxtonbowlingclub.com.au/event/anzac-day/
CATEGORIES:Live Entertainment
ATTACH;FMTTYPE=image/jpeg:https://paxtonbowlingclub.com.au/wp-content/uploads/2026/04/Social-5.jpg
END:VEVENT
BEGIN:VEVENT
DTSTART;TZID=Australia/Sydney:20260425T183000
DTEND;TZID=Australia/Sydney:20260425T183000
DTSTAMP:20260421T095628
CREATED:20230622T015636Z
LAST-MODIFIED:20230622T015636Z
UID:1849-1777141800-1777141800@paxtonbowlingclub.com.au
SUMMARY:Saturday Trivia
DESCRIPTION:
URL:https://paxtonbowlingclub.com.au/event/saturday-trivia/2026-04-25/
CATEGORIES:Live Entertainment
ATTACH;FMTTYPE=image/jpeg:https://paxtonbowlingclub.com.au/wp-content/uploads/2023/06/Paxton_SaturdayNightTrivia_TILE.jpg
END:VEVENT
BEGIN:VEVENT
DTSTART;VALUE=DATE:20260426
DTEND;VALUE=DATE:20260427
DTSTAMP:20260421T095628
CREATED:20260416T020145Z
LAST-MODIFIED:20260416T020145Z
UID:3719-1777161600-1777247999@paxtonbowlingclub.com.au
SUMMARY:Schnitzel Night
DESCRIPTION:
URL:https://paxtonbowlingclub.com.au/event/schnitzel-night/2026-04-26/
CATEGORIES:Live Entertainment
ATTACH;FMTTYPE=image/jpeg:https://paxtonbowlingclub.com.au/wp-content/uploads/2026/03/Schnitzel-Sundays-Social.jpg
END:VEVENT
BEGIN:VEVENT
DTSTART;TZID=UTC:20260426T180000
DTEND;TZID=UTC:20260426T180000
DTSTAMP:20260421T095628
CREATED:20220329T001508Z
LAST-MODIFIED:20220329T001508Z
UID:1851-1777226400-1777226400@paxtonbowlingclub.com.au
SUMMARY:Sunday Meat Raffles
DESCRIPTION:
URL:https://paxtonbowlingclub.com.au/event/sunday-meat-raffles/2026-04-26/
CATEGORIES:Live Entertainment
ATTACH;FMTTYPE=image/jpeg:https://paxtonbowlingclub.com.au/wp-content/uploads/2022/03/Sunday-raffle-square-1.jpg
END:VEVENT
BEGIN:VEVENT
DTSTART;VALUE=DATE:20260430
DTEND;VALUE=DATE:20260501
DTSTAMP:20260421T095628
CREATED:20240801T025925Z
LAST-MODIFIED:20240801T025925Z
UID:2125-1777507200-1777593599@paxtonbowlingclub.com.au
SUMMARY:Thursday Rump Steak
DESCRIPTION:
URL:https://paxtonbowlingclub.com.au/event/thursday-rump-steak/2026-04-30/
CATEGORIES:Live Entertainment
ATTACH;FMTTYPE=image/jpeg:https://paxtonbowlingclub.com.au/wp-content/uploads/2026/03/Burger-Thursdays-Social.jpg
END:VEVENT
BEGIN:VEVENT
DTSTART;TZID=Australia/Sydney:20260430T180000
DTEND;TZID=Australia/Sydney:20260430T180000
DTSTAMP:20260421T095629
CREATED:20240131T222548Z
LAST-MODIFIED:20240131T222548Z
UID:1854-1777572000-1777572000@paxtonbowlingclub.com.au
SUMMARY:Joker Poker
DESCRIPTION:
URL:https://paxtonbowlingclub.com.au/event/joker-poker-2/2026-04-30/
CATEGORIES:Live Entertainment
ATTACH;FMTTYPE=image/jpeg:https://paxtonbowlingclub.com.au/wp-content/uploads/2024/02/Joker-Poker-Soc-tile-Paxton-Bowling-Club-2.jpg
END:VEVENT
BEGIN:VEVENT
DTSTART;TZID=Australia/Sydney:20260430T180000
DTEND;TZID=Australia/Sydney:20260430T190000
DTSTAMP:20260421T095629
CREATED:20231229T050338Z
LAST-MODIFIED:20231229T050338Z
UID:1853-1777572000-1777575600@paxtonbowlingclub.com.au
SUMMARY:Joker Poker
DESCRIPTION:Thursday nights\n2 draw per night – Drawn 6pm and 7pm\nPrize pool starts at $400 – increases $50 per draw  \n*receive 1 entry for every $20 spent\n*Terms and conditions apply
URL:https://paxtonbowlingclub.com.au/event/joker-poker/2026-04-30/
CATEGORIES:Live Entertainment
ATTACH;FMTTYPE=image/jpeg:https://paxtonbowlingclub.com.au/wp-content/uploads/2023/12/Joker-Poker-Soc-tile-Paxton-Bowling-Club.jpg
END:VEVENT
BEGIN:VEVENT
DTSTART;TZID=UTC:20260501T180000
DTEND;TZID=UTC:20260501T180000
DTSTAMP:20260421T095629
CREATED:20220329T001428Z
LAST-MODIFIED:20220329T001428Z
UID:1855-1777658400-1777658400@paxtonbowlingclub.com.au
SUMMARY:Friday Meat Raffles
DESCRIPTION:
URL:https://paxtonbowlingclub.com.au/event/friday-meat-raffles/2026-05-01/
CATEGORIES:Live Entertainment
ATTACH;FMTTYPE=image/jpeg:https://paxtonbowlingclub.com.au/wp-content/uploads/2022/03/Friday-raffle-square.jpg
END:VEVENT
BEGIN:VEVENT
DTSTART;TZID=Australia/Sydney:20260502T183000
DTEND;TZID=Australia/Sydney:20260502T183000
DTSTAMP:20260421T095629
CREATED:20230622T015636Z
LAST-MODIFIED:20230622T015636Z
UID:1856-1777746600-1777746600@paxtonbowlingclub.com.au
SUMMARY:Saturday Trivia
DESCRIPTION:
URL:https://paxtonbowlingclub.com.au/event/saturday-trivia/2026-05-02/
CATEGORIES:Live Entertainment
ATTACH;FMTTYPE=image/jpeg:https://paxtonbowlingclub.com.au/wp-content/uploads/2023/06/Paxton_SaturdayNightTrivia_TILE.jpg
END:VEVENT
BEGIN:VEVENT
DTSTART;VALUE=DATE:20260503
DTEND;VALUE=DATE:20260504
DTSTAMP:20260421T095629
CREATED:20260416T020145Z
LAST-MODIFIED:20260416T020145Z
UID:3720-1777766400-1777852799@paxtonbowlingclub.com.au
SUMMARY:Schnitzel Night
DESCRIPTION:
URL:https://paxtonbowlingclub.com.au/event/schnitzel-night/2026-05-03/
CATEGORIES:Live Entertainment
ATTACH;FMTTYPE=image/jpeg:https://paxtonbowlingclub.com.au/wp-content/uploads/2026/03/Schnitzel-Sundays-Social.jpg
END:VEVENT
BEGIN:VEVENT
DTSTART;TZID=UTC:20260503T180000
DTEND;TZID=UTC:20260503T180000
DTSTAMP:20260421T095629
CREATED:20220329T001508Z
LAST-MODIFIED:20220329T001508Z
UID:1857-1777831200-1777831200@paxtonbowlingclub.com.au
SUMMARY:Sunday Meat Raffles
DESCRIPTION:
URL:https://paxtonbowlingclub.com.au/event/sunday-meat-raffles/2026-05-03/
CATEGORIES:Live Entertainment
ATTACH;FMTTYPE=image/jpeg:https://paxtonbowlingclub.com.au/wp-content/uploads/2022/03/Sunday-raffle-square-1.jpg
END:VEVENT
BEGIN:VEVENT
DTSTART;VALUE=DATE:20260507
DTEND;VALUE=DATE:20260508
DTSTAMP:20260421T095629
CREATED:20240801T025925Z
LAST-MODIFIED:20240801T025925Z
UID:2126-1778112000-1778198399@paxtonbowlingclub.com.au
SUMMARY:Thursday Rump Steak
DESCRIPTION:
URL:https://paxtonbowlingclub.com.au/event/thursday-rump-steak/2026-05-07/
CATEGORIES:Live Entertainment
ATTACH;FMTTYPE=image/jpeg:https://paxtonbowlingclub.com.au/wp-content/uploads/2026/03/Burger-Thursdays-Social.jpg
END:VEVENT
BEGIN:VEVENT
DTSTART;TZID=Australia/Sydney:20260507T180000
DTEND;TZID=Australia/Sydney:20260507T180000
DTSTAMP:20260421T095629
CREATED:20240131T222548Z
LAST-MODIFIED:20240131T222548Z
UID:1859-1778176800-1778176800@paxtonbowlingclub.com.au
SUMMARY:Joker Poker
DESCRIPTION:
URL:https://paxtonbowlingclub.com.au/event/joker-poker-2/2026-05-07/
CATEGORIES:Live Entertainment
ATTACH;FMTTYPE=image/jpeg:https://paxtonbowlingclub.com.au/wp-content/uploads/2024/02/Joker-Poker-Soc-tile-Paxton-Bowling-Club-2.jpg
END:VEVENT
BEGIN:VEVENT
DTSTART;TZID=Australia/Sydney:20260507T180000
DTEND;TZID=Australia/Sydney:20260507T190000
DTSTAMP:20260421T095629
CREATED:20231229T050338Z
LAST-MODIFIED:20231229T050338Z
UID:1858-1778176800-1778180400@paxtonbowlingclub.com.au
SUMMARY:Joker Poker
DESCRIPTION:Thursday nights\n2 draw per night – Drawn 6pm and 7pm\nPrize pool starts at $400 – increases $50 per draw  \n*receive 1 entry for every $20 spent\n*Terms and conditions apply
URL:https://paxtonbowlingclub.com.au/event/joker-poker/2026-05-07/
CATEGORIES:Live Entertainment
ATTACH;FMTTYPE=image/jpeg:https://paxtonbowlingclub.com.au/wp-content/uploads/2023/12/Joker-Poker-Soc-tile-Paxton-Bowling-Club.jpg
END:VEVENT
BEGIN:VEVENT
DTSTART;TZID=UTC:20260508T180000
DTEND;TZID=UTC:20260508T180000
DTSTAMP:20260421T095629
CREATED:20220329T001428Z
LAST-MODIFIED:20220329T001428Z
UID:1860-1778263200-1778263200@paxtonbowlingclub.com.au
SUMMARY:Friday Meat Raffles
DESCRIPTION:
URL:https://paxtonbowlingclub.com.au/event/friday-meat-raffles/2026-05-08/
CATEGORIES:Live Entertainment
ATTACH;FMTTYPE=image/jpeg:https://paxtonbowlingclub.com.au/wp-content/uploads/2022/03/Friday-raffle-square.jpg
END:VEVENT
BEGIN:VEVENT
DTSTART;TZID=Australia/Sydney:20260509T183000
DTEND;TZID=Australia/Sydney:20260509T183000
DTSTAMP:20260421T095629
CREATED:20230622T015636Z
LAST-MODIFIED:20230622T015636Z
UID:1861-1778351400-1778351400@paxtonbowlingclub.com.au
SUMMARY:Saturday Trivia
DESCRIPTION:
URL:https://paxtonbowlingclub.com.au/event/saturday-trivia/2026-05-09/
CATEGORIES:Live Entertainment
ATTACH;FMTTYPE=image/jpeg:https://paxtonbowlingclub.com.au/wp-content/uploads/2023/06/Paxton_SaturdayNightTrivia_TILE.jpg
END:VEVENT
BEGIN:VEVENT
DTSTART;VALUE=DATE:20260510
DTEND;VALUE=DATE:20260511
DTSTAMP:20260421T095629
CREATED:20260416T020145Z
LAST-MODIFIED:20260416T020145Z
UID:3721-1778371200-1778457599@paxtonbowlingclub.com.au
SUMMARY:Schnitzel Night
DESCRIPTION:
URL:https://paxtonbowlingclub.com.au/event/schnitzel-night/2026-05-10/
CATEGORIES:Live Entertainment
ATTACH;FMTTYPE=image/jpeg:https://paxtonbowlingclub.com.au/wp-content/uploads/2026/03/Schnitzel-Sundays-Social.jpg
END:VEVENT
BEGIN:VEVENT
DTSTART;TZID=UTC:20260510T180000
DTEND;TZID=UTC:20260510T180000
DTSTAMP:20260421T095629
CREATED:20220329T001508Z
LAST-MODIFIED:20220329T001508Z
UID:1862-1778436000-1778436000@paxtonbowlingclub.com.au
SUMMARY:Sunday Meat Raffles
DESCRIPTION:
URL:https://paxtonbowlingclub.com.au/event/sunday-meat-raffles/2026-05-10/
CATEGORIES:Live Entertainment
ATTACH;FMTTYPE=image/jpeg:https://paxtonbowlingclub.com.au/wp-content/uploads/2022/03/Sunday-raffle-square-1.jpg
END:VEVENT
BEGIN:VEVENT
DTSTART;VALUE=DATE:20260514
DTEND;VALUE=DATE:20260515
DTSTAMP:20260421T095629
CREATED:20240801T025925Z
LAST-MODIFIED:20240801T025925Z
UID:2127-1778716800-1778803199@paxtonbowlingclub.com.au
SUMMARY:Thursday Rump Steak
DESCRIPTION:
URL:https://paxtonbowlingclub.com.au/event/thursday-rump-steak/2026-05-14/
CATEGORIES:Live Entertainment
ATTACH;FMTTYPE=image/jpeg:https://paxtonbowlingclub.com.au/wp-content/uploads/2026/03/Burger-Thursdays-Social.jpg
END:VEVENT
BEGIN:VEVENT
DTSTART;TZID=Australia/Sydney:20260514T180000
DTEND;TZID=Australia/Sydney:20260514T180000
DTSTAMP:20260421T095629
CREATED:20240131T222548Z
LAST-MODIFIED:20240131T222548Z
UID:1864-1778781600-1778781600@paxtonbowlingclub.com.au
SUMMARY:Joker Poker
DESCRIPTION:
URL:https://paxtonbowlingclub.com.au/event/joker-poker-2/2026-05-14/
CATEGORIES:Live Entertainment
ATTACH;FMTTYPE=image/jpeg:https://paxtonbowlingclub.com.au/wp-content/uploads/2024/02/Joker-Poker-Soc-tile-Paxton-Bowling-Club-2.jpg
END:VEVENT
BEGIN:VEVENT
DTSTART;TZID=Australia/Sydney:20260514T180000
DTEND;TZID=Australia/Sydney:20260514T190000
DTSTAMP:20260421T095629
CREATED:20231229T050338Z
LAST-MODIFIED:20231229T050338Z
UID:1863-1778781600-1778785200@paxtonbowlingclub.com.au
SUMMARY:Joker Poker
DESCRIPTION:Thursday nights\n2 draw per night – Drawn 6pm and 7pm\nPrize pool starts at $400 – increases $50 per draw  \n*receive 1 entry for every $20 spent\n*Terms and conditions apply
URL:https://paxtonbowlingclub.com.au/event/joker-poker/2026-05-14/
CATEGORIES:Live Entertainment
ATTACH;FMTTYPE=image/jpeg:https://paxtonbowlingclub.com.au/wp-content/uploads/2023/12/Joker-Poker-Soc-tile-Paxton-Bowling-Club.jpg
END:VEVENT
BEGIN:VEVENT
DTSTART;TZID=UTC:20260515T180000
DTEND;TZID=UTC:20260515T180000
DTSTAMP:20260421T095629
CREATED:20220329T001428Z
LAST-MODIFIED:20220329T001428Z
UID:1865-1778868000-1778868000@paxtonbowlingclub.com.au
SUMMARY:Friday Meat Raffles
DESCRIPTION:
URL:https://paxtonbowlingclub.com.au/event/friday-meat-raffles/2026-05-15/
CATEGORIES:Live Entertainment
ATTACH;FMTTYPE=image/jpeg:https://paxtonbowlingclub.com.au/wp-content/uploads/2022/03/Friday-raffle-square.jpg
END:VEVENT
BEGIN:VEVENT
DTSTART;TZID=Australia/Sydney:20260516T183000
DTEND;TZID=Australia/Sydney:20260516T183000
DTSTAMP:20260421T095629
CREATED:20230622T015636Z
LAST-MODIFIED:20230622T015636Z
UID:1866-1778956200-1778956200@paxtonbowlingclub.com.au
SUMMARY:Saturday Trivia
DESCRIPTION:
URL:https://paxtonbowlingclub.com.au/event/saturday-trivia/2026-05-16/
CATEGORIES:Live Entertainment
ATTACH;FMTTYPE=image/jpeg:https://paxtonbowlingclub.com.au/wp-content/uploads/2023/06/Paxton_SaturdayNightTrivia_TILE.jpg
END:VEVENT
BEGIN:VEVENT
DTSTART;VALUE=DATE:20260517
DTEND;VALUE=DATE:20260518
DTSTAMP:20260421T095629
CREATED:20260416T020145Z
LAST-MODIFIED:20260416T020145Z
UID:3722-1778976000-1779062399@paxtonbowlingclub.com.au
SUMMARY:Schnitzel Night
DESCRIPTION:
URL:https://paxtonbowlingclub.com.au/event/schnitzel-night/2026-05-17/
CATEGORIES:Live Entertainment
ATTACH;FMTTYPE=image/jpeg:https://paxtonbowlingclub.com.au/wp-content/uploads/2026/03/Schnitzel-Sundays-Social.jpg
END:VEVENT
BEGIN:VEVENT
DTSTART;TZID=UTC:20260517T180000
DTEND;TZID=UTC:20260517T180000
DTSTAMP:20260421T095629
CREATED:20220329T001508Z
LAST-MODIFIED:20220329T001508Z
UID:1867-1779040800-1779040800@paxtonbowlingclub.com.au
SUMMARY:Sunday Meat Raffles
DESCRIPTION:
URL:https://paxtonbowlingclub.com.au/event/sunday-meat-raffles/2026-05-17/
CATEGORIES:Live Entertainment
ATTACH;FMTTYPE=image/jpeg:https://paxtonbowlingclub.com.au/wp-content/uploads/2022/03/Sunday-raffle-square-1.jpg
END:VEVENT
BEGIN:VEVENT
DTSTART;VALUE=DATE:20260521
DTEND;VALUE=DATE:20260522
DTSTAMP:20260421T095629
CREATED:20240801T025925Z
LAST-MODIFIED:20240801T025925Z
UID:2128-1779321600-1779407999@paxtonbowlingclub.com.au
SUMMARY:Thursday Rump Steak
DESCRIPTION:
URL:https://paxtonbowlingclub.com.au/event/thursday-rump-steak/2026-05-21/
CATEGORIES:Live Entertainment
ATTACH;FMTTYPE=image/jpeg:https://paxtonbowlingclub.com.au/wp-content/uploads/2026/03/Burger-Thursdays-Social.jpg
END:VEVENT
END:VCALENDAR